{"text_format":"1","workbook":"xlsx","n_sheets":3,"sheets":["Körschema","Stagetimer CSV","Indatablad"],"not_rendered":{"charts":0,"images":1,"macros":1,"external_links":0,"defined_names":0,"comments":2,"pivot_tables":0},"unopened":[],"bounds":{"document_bytes":16777216,"sheet_cells":100000,"rows_first":2000,"rows_last":500,"rows_between":2000,"halvings":0,"cell_chars":16384,"cell_head_chars":4096},"cells_cut":0,"cells_raw":0,"read":"whole","date_system":"1900"}

{"sheet":"Körschema","index":0,"n_rows":51,"n_cols":12,"rows_kept":51,"cut":false,"hidden":false,"merged":[[0,0,3,1]]}
[{"$error":"#VALUE!"}]
[null,null,"Titel",null,null,"Starttid:"]
[null,null,"Datum",null,null,"Sluttid ",{"$f":"INDEX(A:A, MATCH(99999, A:A))","v":"00:33:30"}]
[null,null,null,null,null,null,null,null,null,null,{"$f":"INDEX(A6:A100, MATCH(2, 1/(A6:A100<>0)))","v":" "}]
["Start","Programpunkt","Typ","Talare","Titel","Övrigt",null,"Längd  (minuter)",null,null,"Tillgängligt material"]
[{"$f":"G2","v":"00:00:00"},"Vinjett","Video",null,null,null,null,0.5,null,null,"Inslag","Tid (min)"]
[{"$f":"IF(ISBLANK(H6),\" \",A6+(H6/1440))","v":"00:00:30"},"Inledning","Sceninslag","Anna Andersson","Moderator",null,null,3]
[{"$f":"IF(ISBLANK(H7),\" \",A7+(H7/1440))","v":"00:03:30"},"Föreläsning 1","Sceninslag","Jan Jansson","Föreläsare",null,null,30]
[{"$f":"IF(ISBLANK(H8),\" \",A8+(H8/1440))","v":"00:33:30"}]
[" "]
[" "]
[" "]
[" "]
[" "]
[" "]
[" "]
[" "]
[" "]
[" "]
[" "]
[" "]
[" "]
[" "]
[" ",null,null,null,null,null,null,null,null,null,"Totalt material",{"$f":"SUM(L7:L23)/1440","v":"00:00:00"}]
[" "]
[" ",null,null,null,null,null,null,null,null,null,"Kontaktuppgifter Watermark"]
[" ",null,null,null,null,null,null,null,null,null,"Watermark Media Lab"]
[" ",null,null,null,null,null,null,null,null,null,"Port anders gata 9"]
[" ",null,null,null,null,null,null,null,null,null,"72212 Västerås"]
[" ",null,null,null,null,null,null,null,null,null,"www.watermark.se"]
[" ",null,null,null,null,null,null,null,null,null,"viktor@watermark.se"]
[" ",null,null,null,null,null,null,null,null,null,"0733304005"]
[" "]
[" "]
[" "]
[" "]
[" "]
[" "]
[" "]
[" "]
[" "]
[" "]
[" "]
[" "]
[" "]
[" "]
[" "]
[" "]
[" "]
[" "]
[" "]

{"sheet":"Stagetimer CSV","index":1,"n_rows":29,"n_cols":1,"rows_kept":29,"cut":false,"hidden":false,"merged":[]}
[{"$f":"\"Title:\"&\",\"&Körschema!D2&\",\"","v":"Title:,,"}]
["Time Zone:,Europe/Stockholm,,,"]
["…"]
["Start,Duration,Title,Speaker,Notes"]
[{"$f":"TEXT(Körschema!A6, \"t:mm AM/PM\") & \",\"&TEXT(Körschema!H6/1440,\"t:mm:ss\")&\",\"&Körschema!B6","v":"12:00 AM,0:00:30,Vinjett"}]
[{"$f":"TEXT(Körschema!A7, \"t:mm AM/PM\") & \",\"&TEXT(Körschema!H7/1440,\"t:mm:ss\")&\",\"&Körschema!B7","v":"12:00 AM,0:03:00,Inledning"}]
[{"$f":"TEXT(Körschema!A8, \"t:mm AM/PM\") & \",\"&TEXT(Körschema!H8/1440,\"t:mm:ss\")&\",\"&Körschema!B8","v":"12:03 AM,0:30:00,Föreläsning 1"}]
[{"$f":"TEXT(Körschema!A9, \"t:mm AM/PM\") & \",\"&TEXT(Körschema!H9/1440,\"t:mm:ss\")&\",\"&Körschema!B9","v":"12:33 AM,0:00:00,"}]
[{"$f":"TEXT(Körschema!A10, \"t:mm AM/PM\") & \",\"&TEXT(Körschema!H10/1440,\"t:mm:ss\")&\",\"&Körschema!B10","v":" ,0:00:00,"}]
[{"$f":"TEXT(Körschema!A11, \"t:mm AM/PM\") & \",\"&TEXT(Körschema!H11/1440,\"t:mm:ss\")&\",\"&Körschema!B11","v":" ,0:00:00,"}]
[{"$f":"TEXT(Körschema!A12, \"t:mm AM/PM\") & \",\"&TEXT(Körschema!H12/1440,\"t:mm:ss\")&\",\"&Körschema!B12","v":" ,0:00:00,"}]
[{"$f":"TEXT(Körschema!A13, \"t:mm AM/PM\") & \",\"&TEXT(Körschema!H13/1440,\"t:mm:ss\")&\",\"&Körschema!B13","v":" ,0:00:00,"}]
[{"$f":"TEXT(Körschema!A14, \"t:mm AM/PM\") & \",\"&TEXT(Körschema!H14/1440,\"t:mm:ss\")&\",\"&Körschema!B14","v":" ,0:00:00,"}]
[{"$f":"TEXT(Körschema!A15, \"t:mm AM/PM\") & \",\"&TEXT(Körschema!H15/1440,\"t:mm:ss\")&\",\"&Körschema!B15","v":" ,0:00:00,"}]
[{"$f":"TEXT(Körschema!A16, \"t:mm AM/PM\") & \",\"&TEXT(Körschema!H16/1440,\"t:mm:ss\")&\",\"&Körschema!B16","v":" ,0:00:00,"}]
[{"$f":"TEXT(Körschema!A17, \"t:mm AM/PM\") & \",\"&TEXT(Körschema!H17/1440,\"t:mm:ss\")&\",\"&Körschema!B17","v":" ,0:00:00,"}]
[{"$f":"TEXT(Körschema!A18, \"t:mm AM/PM\") & \",\"&TEXT(Körschema!H18/1440,\"t:mm:ss\")&\",\"&Körschema!B18","v":" ,0:00:00,"}]
[{"$f":"TEXT(Körschema!A19, \"t:mm AM/PM\") & \",\"&TEXT(Körschema!H19/1440,\"t:mm:ss\")&\",\"&Körschema!B19","v":" ,0:00:00,"}]
[{"$f":"TEXT(Körschema!A20, \"t:mm AM/PM\") & \",\"&TEXT(Körschema!H20/1440,\"t:mm:ss\")&\",\"&Körschema!B20","v":" ,0:00:00,"}]
[{"$f":"TEXT(Körschema!A21, \"t:mm AM/PM\") & \",\"&TEXT(Körschema!H21/1440,\"t:mm:ss\")&\",\"&Körschema!B21","v":" ,0:00:00,"}]
[{"$f":"TEXT(Körschema!A22, \"t:mm AM/PM\") & \",\"&TEXT(Körschema!H22/1440,\"t:mm:ss\")&\",\"&Körschema!B22","v":" ,0:00:00,"}]
[{"$f":"TEXT(Körschema!A23, \"t:mm AM/PM\") & \",\"&TEXT(Körschema!H23/1440,\"t:mm:ss\")&\",\"&Körschema!B23","v":" ,0:00:00,"}]
[{"$f":"TEXT(Körschema!A24, \"t:mm AM/PM\") & \",\"&TEXT(Körschema!H24/1440,\"t:mm:ss\")&\",\"&Körschema!B24","v":" ,0:00:00,"}]
[{"$f":"TEXT(Körschema!A25, \"t:mm AM/PM\") & \",\"&TEXT(Körschema!H25/1440,\"t:mm:ss\")&\",\"&Körschema!B25","v":" ,0:00:00,"}]
[{"$f":"TEXT(Körschema!A26, \"t:mm AM/PM\") & \",\"&TEXT(Körschema!H26/1440,\"t:mm:ss\")&\",\"&Körschema!B26","v":" ,0:00:00,"}]
[{"$f":"TEXT(Körschema!A27, \"t:mm AM/PM\") & \",\"&TEXT(Körschema!H27/1440,\"t:mm:ss\")&\",\"&Körschema!B27","v":" ,0:00:00,"}]
[{"$f":"TEXT(Körschema!A28, \"t:mm AM/PM\") & \",\"&TEXT(Körschema!H28/1440,\"t:mm:ss\")&\",\"&Körschema!B28","v":" ,0:00:00,"}]
[{"$f":"TEXT(Körschema!A29, \"t:mm AM/PM\") & \",\"&TEXT(Körschema!H29/1440,\"t:mm:ss\")&\",\"&Körschema!B29","v":" ,0:00:00,"}]
[{"$f":"TEXT(Körschema!A30, \"t:mm AM/PM\") & \",\"&TEXT(Körschema!H30/1440,\"t:mm:ss\")&\",\"&Körschema!B30","v":" ,0:00:00,"}]

{"sheet":"Indatablad","index":2,"n_rows":11,"n_cols":1,"rows_kept":11,"cut":false,"hidden":false,"merged":[]}
[]
[]
[]
["Inslagstyper"]
["Video"]
["Studio"]
["Länk"]
["Paus"]
["Sceninslag"]
["Presentation"]
["Panelsamtal"]